BEGIN:VCALENDAR
VERSION:2.0
PRODID:-//Magyar Edzők Társasága
CALSCALE:GREGORIAN
METHOD:PUBLISH
X-WR-CALNAME:Magyar Edzők Társasága
X-ORIGINAL-URL:https://archiv.magyaredzo.hu/rendezveny/a-sportpszichologiai-alapjai-teruletei-konferencia-2018-aprilis-17/
X-WR-CALDESC:A sportpszichológiai alapjai, területei konferencia 2018. április. 17.
BEGIN:VEVENT
DTSTART:20180417T100000
DTEND:20180417T133000
SUMMARY:A sportpszichológiai alapjai, területei konferencia 2018. április. 17.
DESCRIPTION:
LOCATION:Istvánmezei út 1-3
END:VEVENT
END:VCALENDAR
