BEGIN:VCALENDAR
VERSION:2.0
PRODID:-//Magyar Edzők Társasága
CALSCALE:GREGORIAN
METHOD:PUBLISH
X-WR-CALNAME:Magyar Edzők Társasága
X-ORIGINAL-URL:https://archiv.magyaredzo.hu/rendezveny/olimpia-ertekeles-es-teendok-a-csapatsportokban-szakmai-konferencia-2017-januar-19/
X-WR-CALDESC:Olimpia értékelés és teendők a csapatsportokban – szakmai konferencia 2017. január.19.
BEGIN:VEVENT
DTSTART:20170119T150000
DTEND:20170119T173000
SUMMARY:Olimpia értékelés és teendők a csapatsportokban – szakmai konferencia 2017. január.19.
DESCRIPTION:[fusion_accordion type="" boxed_mode="" border_size="0" border_color="" background_color="" hover_color="" divider_line="" title_font_size="" icon_size="" icon_color="" icon_boxed_mode="" icon_box_color="" icon_alignment="" toggle_hover_accent_color="" hide_on_mobile="small-visibility,medium-visibility,large-visibility" class="rendezveny-jelentkezes-gomb" id=""][fusion_toggle title="Jelentkezéshez kattintson ide, és töltse ki az űrlapot!" open="no"]

A jelentkezés lezárult.

[/fusion_toggle][/fusion_accordion]
LOCATION:Istvánmezei út 1-3
END:VEVENT
END:VCALENDAR
